BEGIN:VCALENDAR
VERSION:2.0
PRODID:-//bgclubventura.org//NONSGML kigkonsult.se iCalcreator 2.30.10//
CALSCALE:GREGORIAN
METHOD:PUBLISH
UID:63921360-ba50-45df-a3d2-1dbb2b64ddc6
X-WR-CALDESC:Schools Closed\, Club will be open for full break day schedule
 . Please contact your child's club site directly for more information. \nL
 eFevre: 805-641-5599\nSaticoy: 805-585-3381\nOak View: 805-641-5588\nWestv
 iew: 805-641-5599
X-WR-RELCALID:6bd85774975132cd8d7a3183397e0320
X-WR-TIMEZONE:America/Los_Angeles
BEGIN:VTIMEZONE
TZID:America/Los_Angeles
BEGIN:STANDARD
TZNAME:PST
DTSTART:20251102T020000
TZOFFSETFROM:-0700
TZOFFSETTO:-0800
RDATE:20261101T020000
END:STANDARD
BEGIN:DAYLIGHT
TZNAME:PDT
DTSTART:20250309T020000
TZOFFSETFROM:-0800
TZOFFSETTO:-0700
RDATE:20260308T020000
RDATE:20270314T020000
END:DAYLIGHT
END:VTIMEZONE
BEGIN:VEVENT
UID:254060cb-2df5-4e53-9a2b-a080d398c2d5
DTSTAMP:20260420T080232Z
DESCRIPTION:Schools Closed\, Club will be open for full break day schedule.
  Please contact your child's club site directly for more information. \nLe
 Fevre: 805-641-5599\nSaticoy: 805-585-3381\nOak View: 805-641-5588\nWestvi
 ew: 805-641-5599
DTSTART;TZID=America/Los_Angeles:20260213T080000
DTEND;TZID=America/Los_Angeles:20260213T170000
LOCATION:
SUMMARY:No School | Clubs Open
END:VEVENT
END:VCALENDAR
