BEGIN:VCALENDAR
VERSION:2.0
PRODID:-//bgclubventura.org//NONSGML kigkonsult.se iCalcreator 2.30.10//
CALSCALE:GREGORIAN
METHOD:PUBLISH
UID:7beeab70-538b-40fa-830a-a874147df8e5
X-WR-CALDESC:To register please visit https://cbo.io/tickets/golfclassic202
 5/tix
X-WR-RELCALID:9074d136a353adc7ecd3dc5873691fa5
X-WR-TIMEZONE:America/Los_Angeles
BEGIN:VTIMEZONE
TZID:America/Los_Angeles
BEGIN:STANDARD
TZNAME:PST
DTSTART:20241103T020000
TZOFFSETFROM:-0700
TZOFFSETTO:-0800
RDATE:20251102T020000
END:STANDARD
BEGIN:DAYLIGHT
TZNAME:PDT
DTSTART:20250309T020000
TZOFFSETFROM:-0800
TZOFFSETTO:-0700
RDATE:20260308T020000
END:DAYLIGHT
END:VTIMEZONE
BEGIN:VEVENT
UID:a10b32da-f4b7-45f2-9974-61c3d1ebbecf
DTSTAMP:20260424T211537Z
DESCRIPTION:To register please visit https://cbo.io/tickets/golfclassic2025
 /tix
DTSTART;TZID=America/Los_Angeles:20250501T080000
DTEND;TZID=America/Los_Angeles:20250501T160000
LOCATION:905 Country Club Road\, Ojai\, CA 93023 US
SUMMARY:2025 Golf Classic
END:VEVENT
END:VCALENDAR
