BEGIN:VCALENDAR
VERSION:2.0
PRODID:-//bgclubventura.org//NONSGML kigkonsult.se iCalcreator 2.30.10//
CALSCALE:GREGORIAN
METHOD:PUBLISH
UID:d94b1688-d4c8-41a9-99b0-87a89d12c6c6
X-WR-CALDESC:Event is open to the public and Free to attend but Registratio
 n required to attend.
X-WR-RELCALID:74cef7345e1ac68b7d787472bb866342
X-WR-TIMEZONE:America/Los_Angeles
BEGIN:VTIMEZONE
TZID:America/Los_Angeles
BEGIN:STANDARD
TZNAME:PST
DTSTART:20251102T020000
TZOFFSETFROM:-0700
TZOFFSETTO:-0800
RDATE:20261101T020000
END:STANDARD
BEGIN:DAYLIGHT
TZNAME:PDT
DTSTART:20250309T020000
TZOFFSETFROM:-0800
TZOFFSETTO:-0700
RDATE:20260308T020000
RDATE:20270314T020000
END:DAYLIGHT
END:VTIMEZONE
BEGIN:VEVENT
UID:5ff6c507-c5ab-4507-ba78-b19b6d2a9ab3
DTSTAMP:20260420T062150Z
DESCRIPTION:Event is open to the public and Free to attend but Registration
  required to attend.
DTSTART;TZID=America/Los_Angeles:20260223T183000
DTEND;TZID=America/Los_Angeles:20260223T200000
LOCATION:1929 Johnson Drive\, Ventura\, CA 93003 US
SUMMARY:2026 Youth of the Year Celebration
END:VEVENT
END:VCALENDAR
