BEGIN:VCALENDAR
VERSION:2.0
PRODID:-//bgclubventura.org//NONSGML kigkonsult.se iCalcreator 2.30.10//
CALSCALE:GREGORIAN
METHOD:PUBLISH
UID:2fef7cd1-3ca5-46cc-9f7f-9b044f3dfdba
X-WR-CALDESC:All Club Sites closed.
X-WR-RELCALID:a89d37e501642ab7b043e3a5a1b84fbe
X-WR-TIMEZONE:America/Los_Angeles
BEGIN:VTIMEZONE
TZID:America/Los_Angeles
BEGIN:STANDARD
TZNAME:PST
DTSTART:20251102T020000
TZOFFSETFROM:-0700
TZOFFSETTO:-0800
RDATE:20261101T020000
END:STANDARD
BEGIN:DAYLIGHT
TZNAME:PDT
DTSTART:20250309T020000
TZOFFSETFROM:-0800
TZOFFSETTO:-0700
RDATE:20260308T020000
RDATE:20270314T020000
END:DAYLIGHT
END:VTIMEZONE
BEGIN:VEVENT
UID:3a6f620e-ed89-4748-841e-ec89c6c11203
DTSTAMP:20260420T080636Z
DESCRIPTION:All Club Sites closed.
DTSTART;TZID=America/Los_Angeles:20260119T030000
DTEND;TZID=America/Los_Angeles:20260119T030001
LOCATION:
SUMMARY:Clubs Closed
END:VEVENT
END:VCALENDAR
