BEGIN:VCALENDAR
VERSION:2.0
PRODID:-//bgclubventura.org//NONSGML kigkonsult.se iCalcreator 2.30.10//
CALSCALE:GREGORIAN
METHOD:PUBLISH
UID:49f6364f-8ac1-486d-a8f6-7439c6bc6f7a
X-WR-CALDESC:All Club sites closed for winter break. Club will resume for n
 ormal after-school hours starting Tuesday\, January 6\, 2026.
X-WR-RELCALID:af37ea0a61de77548109830ad885489a
X-WR-TIMEZONE:America/Los_Angeles
BEGIN:VTIMEZONE
TZID:America/Los_Angeles
BEGIN:STANDARD
TZNAME:PST
DTSTART:20251102T020000
TZOFFSETFROM:-0700
TZOFFSETTO:-0800
RDATE:20261101T020000
END:STANDARD
BEGIN:DAYLIGHT
TZNAME:PDT
DTSTART:20250309T020000
TZOFFSETFROM:-0800
TZOFFSETTO:-0700
RDATE:20260308T020000
RDATE:20270314T020000
END:DAYLIGHT
END:VTIMEZONE
BEGIN:VEVENT
UID:81ccfa78-8d36-4eb2-8b55-73ad47a48ad5
DTSTAMP:20260420T080112Z
DESCRIPTION:All Club sites closed for winter break. Club will resume for no
 rmal after-school hours starting Tuesday\, January 6\, 2026.
DTSTART;TZID=America/Los_Angeles:20251220T030000
DTEND;TZID=America/Los_Angeles:20260105T030001
LOCATION:
SUMMARY:Clubs Closed for Winter Break
END:VEVENT
END:VCALENDAR
